BEGIN:VCALENDAR
VERSION:2.0
PRODID:-//Wy vom Wyhüsli//NONSGML kigkonsult.se iCalcreator 2.16.12//
METHOD:PUBLISH
X-MS-OLK-FORCEINSPECTOROPEN:TRUE
BEGIN:VEVENT
UID:20260419T152117CEST-1749os5XuH@Wy vom Wyhüsli
DTSTAMP:20260419T132117Z
DESCRIPTION:Donnerstag und Freitag von 18 - 22 Uhr\nSamstag von 14 - 22 Uhr
DTSTART:20200402T000000
DTEND:20200404T235900
LOCATION:Wyhüsli
ORGANIZER:MAILTO:Wy vom Wyhüsli <info@wyhuesli.ch>
SUMMARY:Frühlings-Degustation Caveau Koppigen - VERSCHOBEN
END:VEVENT
END:VCALENDAR
