BEGIN:VCALENDAR
VERSION:2.0
PRODID:-//Wy vom Wyhüsli//NONSGML kigkonsult.se iCalcreator 2.16.12//
METHOD:PUBLISH
X-MS-OLK-FORCEINSPECTOROPEN:TRUE
BEGIN:VEVENT
UID:20260419T152259CEST-4368JL04UM@Wy vom Wyhüsli
DTSTAMP:20260419T132259Z
DESCRIPTION:Halle 1.2 / Stand D 003\n\nTäglich von 11 – 20 Uhr\n\nAm letzte
 n Tag bis 18 Uhr
DTSTART:20200424T000000
DTEND:20200503T235900
LOCATION:Messe Bern
ORGANIZER:MAILTO:Wy vom Wyhüsli <info@wyhuesli.ch>
SUMMARY:BEA - ABGESAGT
END:VEVENT
END:VCALENDAR
