BEGIN:VCALENDAR
VERSION:2.0
PRODID:-//Wy vom Wyhüsli//NONSGML kigkonsult.se iCalcreator 2.16.12//
METHOD:PUBLISH
X-MS-OLK-FORCEINSPECTOROPEN:TRUE
BEGIN:VEVENT
UID:20260419T152620CEST-6305EIAnZH@Wy vom Wyhüsli
DTSTAMP:20260419T132620Z
DESCRIPTION:CHF 45.- pro Person
DTSTART:20200619T000000
DTEND:20200619T235900
LOCATION:Wyhüsli
ORGANIZER:MAILTO:Wy vom Wyhüsli <info@wyhuesli.ch>
SUMMARY:Wein & Grill - AUSVERKAUFT
END:VEVENT
END:VCALENDAR
