BEGIN:VCALENDAR
VERSION:2.0
PRODID:-//Wy vom Wyhüsli//NONSGML kigkonsult.se iCalcreator 2.16.12//
METHOD:PUBLISH
X-MS-OLK-FORCEINSPECTOROPEN:TRUE
BEGIN:VEVENT
UID:20260419T152116CEST-6669RzLK9C@Wy vom Wyhüsli
DTSTAMP:20260419T132116Z
DESCRIPTION:
DTSTART:20200723T000000
DTEND:20200725T235900
LOCATION:Openair Etziken
ORGANIZER:MAILTO:Wy vom Wyhüsli <info@wyhuesli.ch>
SUMMARY:Openair Etziken - ABGESAGT
END:VEVENT
END:VCALENDAR
