BEGIN:VCALENDAR
VERSION:2.0
PRODID:-//Wy vom Wyhüsli//NONSGML kigkonsult.se iCalcreator 2.16.12//
METHOD:PUBLISH
X-MS-OLK-FORCEINSPECTOROPEN:TRUE
BEGIN:VEVENT
UID:20260419T152551CEST-8804ssoSdn@Wy vom Wyhüsli
DTSTAMP:20260419T132551Z
DESCRIPTION:Aus Sicherheitsgründen (Covid 19) haben wir uns entschieden\, d
 ie Bordeauxdegustation wegen der engen Platzverhältnisse im Bordeauxkeller
  nicht durchzuführen. Vielen Dank für Ihr Verständnis
DTSTART:20201024T000000
DTEND:20201024T235900
LOCATION:Wyhüsli Koppigen
ORGANIZER:MAILTO:Wy vom Wyhüsli <info@wyhuesli.ch>
SUMMARY:Bordeaux Degustation - Auf nächstes Jahr verschoben
END:VEVENT
END:VCALENDAR
