BEGIN:VCALENDAR
VERSION:2.0
PRODID:-//Wy vom Wyhüsli//NONSGML kigkonsult.se iCalcreator 2.16.12//
METHOD:PUBLISH
X-MS-OLK-FORCEINSPECTOROPEN:TRUE
BEGIN:VEVENT
UID:20260419T152319CEST-7170FkuTD0@Wy vom Wyhüsli
DTSTAMP:20260419T132319Z
DESCRIPTION:Degustation im Cliquekäller Verschnuuffer in Basel\n\nLiebe Wei
 nfreunde\n\nWir laden Sie herzlich zu unserer Herbstdegustation in Basel e
 in. Wir sorgen für genügend Abstände und die Umsetzung des Sicherheitskonz
 eptes (s. Covid-19-Information unten). Eine Anmeldung ist nicht erforderli
 ch.\n\nDonnerstag\, 29. Oktober 16 – 21 Uhr\n\nFreitag\, 30. Oktober 16 – 
 21 Uhr\n\nSamstag\, 31. Oktober 14 – 21 Uhr\n\nSonntag\, 1. November 13 - 
 18 Uhr\n\nim Cliquekäller Verschnuuffer\, Malzgasse 9\, Basel\n\nMöchten S
 ie unsere schönen Weine auch Ihren Freunden zeigen?\n\nSie sind herzlich w
 illkommen!\n\nWir freuen uns auf Ihren Besuch.\n\nAlexis Born\, Luigi Tric
 arico & s’Wyhüsli Team\n\n\nCovid-19-Information:\n\n- Die grösste Änderun
 g ist\, dass wir die Degustation alleine bestreiten und nicht mehr zu zwei
 t mit dem Weinbauern aus Twann. Deshalb rechnen wir mit ca. 1/3 weniger Be
 suchern. Dadurch können wir die Abstände im Keller sicherstellen.\n\n- Zus
 ätzlich werden wir im Keller einen zweiten Raum nutzen\, um Gruppen geziel
 t trennen zu können.\n\n- Im Keller werden die Mitarbeiter Masken tragen u
 nd die Gäste die Maske nur abnehmen dürfen\, wenn sie an Ihrem Platz sitze
 n\, der Ihnen zugewiesen wurde.\n\n- Desinfektionsmittel für Hände und Mas
 ken sind reichlich vor Ort vorhanden.\n\nSollten Sie noch Fragen haben\, s
 tehen wir gerne zur Verfügung.\n\n\nP.S. Hier finden Sie unsere Degustatio
 ns-Weine. Gerne können Sie diese Liste ausdrucken und die Weine auch per P
 ost oder e-Mail bestellen.\n 
DTSTART:20201029T000000
DTEND:20201101T235900
LOCATION:Verschnuufer Clique-Chäller
ORGANIZER:MAILTO:Wy vom Wyhüsli <info@wyhuesli.ch>
SUMMARY:Herbst-Degustation Basel
END:VEVENT
END:VCALENDAR
