BEGIN:VCALENDAR
VERSION:2.0
PRODID:-//Wy vom Wyhüsli//NONSGML kigkonsult.se iCalcreator 2.16.12//
METHOD:PUBLISH
X-MS-OLK-FORCEINSPECTOROPEN:TRUE
BEGIN:VEVENT
UID:20260419T152340CEST-5735cVVFmC@Wy vom Wyhüsli
DTSTAMP:20260419T132340Z
DESCRIPTION:Weinliste Herbst-Degustation\n\nWir laden Sie herzlich ein zu u
 nserer\n\nHerbst-Degustation im Wyhüsli Koppigen\n\nDas Jahr 2020 hält uns
  alle auf Trab und ist voller Überraschungen.\n\nIn diesen schwierigen Zei
 ten hat Ihre Gesundheit oberste Priorität und deshalb gehen wir für die He
 rbst Degustation im Wyhüsli neue Wege. Sie haben drei Möglickeiten\, wie S
 ie unsere Neuheiten und Klassiker entdecken können:\n\n1. Degustation auf 
 Termin im Wyhüsli\n\nSie können sich bei uns im Wyhüsli für eine Degustati
 on anmelden. Wir haben drei Tische\, an denen je maximal 4 Personen Platz 
 finden und in einem Zeitfenster von 2 Stunden im kleinen Rahmen unsere Neu
 heiten und Klassiker degustieren können. Wir sorgen für genügend Abstände 
 und die Umsetzung des Sicherheitskonzeptes. Die Mitarbeiter tragen Masken 
 und die Gäste auch\, bis sie an ihrem Platz sitzen.\n\n- Die Degustationen
  finden ab Donnerstag\, 5. November bis am Samstag\, 19. Dezember 2020 sta
 tt\n\n- Bitte reservieren Sie einen Tisch für 2 Stunden von Mittwoch bis S
 amstag\, jeweils zwischen 14 – 20 Uhr\n\n- Für die Reservation einer Degus
 tation in Koppigen erreichen Sie uns unter: E-Mail: info@wyhuesli.ch oder 
 Telefon: 034 413 11 77.\n\n2. Degustation zu Hause\n\nSie können auch gemü
 tlich zu Hause degustieren. Gönnen Sie sich eine Privat-Degustation.\n\n- 
 Wählen Sie in unserem Online-Shop bis zu 12 verschiedene 75cl Degustations
 flaschen (nur Einzelflaschen) von dieser Degustations-Liste. Auf diese Deg
 ustationsflaschen gewähren wir Ihnen 30% Rabatt. Diese Promotion ist gülti
 g bis am 5. Dezember 2020 und einzulösen mit dem Gutschein-Code: DEGUSTATI
 ON\n\n- Bestellen Sie die gewünschten Weine (in einer neuen Bestellung) in
  unserem Online-Shop\n\n3. Sofortige Bestellung\n\nSie wissen schon\, mit 
 welchen Weinen Sie Ihre Festtage bereichern möchten?\n\n- Bestellen Sie di
 e gewünschten Weine in unserem Online-Shop.\n\nWelche dieser drei Möglichk
 eiten passt Ihnen am Besten? Haben Sie Fragen dazu oder zu den Weinen? Dan
 n sind wir unter E-Mail: info@wyhuesli.ch oder Telefon: 034 413 11 77 gern
 e für Sie da.\n\nWir freuen uns von Ihnen zu hören und wünschen Ihnen gute
  Gesundheit\n\nLiebe Grüsse\n\nAlexis Born\, Luigi Tricarico und s'Wyhüsli
 -Team\n\n \n
DTSTART:20201105T000000
DTEND:20201219T235900
LOCATION:Wyhüsli Koppigen
ORGANIZER:MAILTO:Wy vom Wyhüsli <info@wyhuesli.ch>
SUMMARY:Herbst-Degustation Koppigen
END:VEVENT
END:VCALENDAR
