BEGIN:VCALENDAR
VERSION:2.0
PRODID:-//Wy vom Wyhüsli//NONSGML kigkonsult.se iCalcreator 2.16.12//
METHOD:PUBLISH
X-MS-OLK-FORCEINSPECTOROPEN:TRUE
BEGIN:VEVENT
UID:20260419T152145CEST-77093UCPVu@Wy vom Wyhüsli
DTSTAMP:20260419T132145Z
DESCRIPTION:CHF 25.- pro Person
DTSTART:20200508T000000
DTEND:20200508T235900
LOCATION:Wyhüsli
ORGANIZER:MAILTO:Wy vom Wyhüsli <info@wyhuesli.ch>
SUMMARY:Wein & Wurst VERSCHOBEN
END:VEVENT
END:VCALENDAR
