BEGIN:VCALENDAR
VERSION:2.0
PRODID:-//Wy vom Wyhüsli//NONSGML kigkonsult.se iCalcreator 2.16.12//
METHOD:PUBLISH
X-MS-OLK-FORCEINSPECTOROPEN:TRUE
BEGIN:VEVENT
UID:20260419T152259CEST-0834Hd7ahD@Wy vom Wyhüsli
DTSTAMP:20260419T132259Z
DESCRIPTION:CHF 25.- pro Person\n\nvon 18.00 - 22.00 Uhr
DTSTART:20200717T000000
DTEND:20200717T235900
LOCATION:Wyhüsli
ORGANIZER:MAILTO:Wy vom Wyhüsli <info@wyhuesli.ch>
SUMMARY:Wein & Wurst
END:VEVENT
END:VCALENDAR
