BEGIN:VCALENDAR
VERSION:2.0
PRODID:-//Wy vom Wyhüsli//NONSGML kigkonsult.se iCalcreator 2.16.12//
METHOD:PUBLISH
X-MS-OLK-FORCEINSPECTOROPEN:TRUE
BEGIN:VEVENT
UID:20260419T152439CEST-28137hwzjj@Wy vom Wyhüsli
DTSTAMP:20260419T132439Z
DESCRIPTION:CHF 25.- pro Person\n\nvon 18.00 - 22.00 Uhr
DTSTART:20200828T000000
DTEND:20200828T235900
LOCATION:Wyhüsli Koppigen
ORGANIZER:MAILTO:Wy vom Wyhüsli <info@wyhuesli.ch>
SUMMARY:Wein & Wurst
END:VEVENT
END:VCALENDAR
