BEGIN:VCALENDAR
VERSION:2.0
PRODID:-//Wy vom Wyhüsli//NONSGML kigkonsult.se iCalcreator 2.16.12//
METHOD:PUBLISH
X-MS-OLK-FORCEINSPECTOROPEN:TRUE
BEGIN:VEVENT
UID:20260419T152300CEST-0913TUmgmh@Wy vom Wyhüsli
DTSTAMP:20260419T132300Z
DESCRIPTION:Open Air Degustation im Wyhüsli Koppigen\n\n- Neuheiten und Kla
 ssiker können degustiert werden\n\n- Sicherheitsabstände können gewährleis
 tet werden\n\n12. -13. Juni 2020\n\nFreitag von 17.00 – 22.00 Uhr\n\nSamst
 ag von 13.00 – 22.00 Uhr\n\nÜberraschungs-Häppli offeriert\n
DTSTART:20200612T000000
DTEND:20200613T235900
LOCATION:Wyhüsli
ORGANIZER:MAILTO:Wy vom Wyhüsli <info@wyhuesli.ch>
SUMMARY:Open Air Degustation - NEU
END:VEVENT
END:VCALENDAR
