BEGIN:VCALENDAR
VERSION:2.0
PRODID:-//Wy vom Wyhüsli//NONSGML kigkonsult.se iCalcreator 2.16.12//
METHOD:PUBLISH
X-MS-OLK-FORCEINSPECTOROPEN:TRUE
BEGIN:VEVENT
UID:20260419T152440CEST-4056OUcuZ0@Wy vom Wyhüsli
DTSTAMP:20260419T132440Z
DESCRIPTION:Die HESO findet in diesem Jahr leider nicht statt. Trotzdem kön
 nen Sie in Solothurn unsere Neuheiten und einige unserer Klassiker degusti
 eren.\n\nEinen einzigartigen Ort haben wir für Sie ausgesucht: das Extraba
 ll Flippermuseum in Solothurn. Nebst der Degustation offerieren wir Ihnen 
 vom Wyhüsli-Team selber hergestellte Würste.\n\nDegustation im Extraball F
 lippermuseum\n\nDonnerstag\, 17. September 2020 von 16 - 22 Uhr\nFreitag\,
  18. September 2020 von 16 - 22 Uhr\n\nSamstag\, 19. September 2020 von 14
  - 22 Uhr\n\nFreitag\, 25. September 2020 von 16 - 22 Uhr\nSamstag\, 26. S
 eptember 2020 von 14 - 22 Uhr\nSonntag\, 27. September von 12 - 18 Uhr\n 
 \n\nIm Flippermuseum Extraball\n\nObachstrasse 34\, 4500 Solothurn\nwww.ex
 tra-ball.ch\n\nWir freuen uns auf Ihren Degustations-Besuch.\nAlexis Born\
 , Luigi Tricarico und s’Wyhüsli-Team\n\nP.S. Hier finden Sie unsere Degust
 ations-Weine. Gerne können Sie diese Liste ausdrucken und die Weine auch p
 er Post oder e-Mail bestellen.
DTSTART:20200917T000000
DTEND:20200927T235900
LOCATION:Extraball Flippermuseum\, Solothurn
ORGANIZER:MAILTO:Wy vom Wyhüsli <info@wyhuesli.ch>
SUMMARY:Wyhüsli goes Extraball - Ersatzprogramm HESO
END:VEVENT
END:VCALENDAR
