BEGIN:VCALENDAR
VERSION:2.0
PRODID:-//Wy vom Wyhüsli//NONSGML kigkonsult.se iCalcreator 2.16.12//
METHOD:PUBLISH
X-MS-OLK-FORCEINSPECTOROPEN:TRUE
BEGIN:VEVENT
UID:20260419T152650CEST-7033cKMGvz@Wy vom Wyhüsli
DTSTAMP:20260419T132650Z
DESCRIPTION:Die Berner Weinmesse findet in diesem Jahr leider nicht statt. 
 Trotzdem können Sie in Bern unsere Neuheiten und einige unserer Klassiker 
 degustieren.\n\nWir empfangen Sie exklusiv zur Weinverkostung im Restauran
 t Parlement. Nebst der Degustation offerieren wir Ihnen vom Wyhüsli-Team s
 elber hergestellte Würste.\n\nDegustation im Restaurant Parlament\n\nDonne
 rstag\, 1. Oktober von 16 - 22 Uhr\nFreitag\, 2. Oktober von 16 - 22 Uhr\n
 Samstag\, 3. Oktober von 14 - 22 Uhr\nSonntag\, 4. Oktober von 12 - 18 Uhr
 \nWir freuen uns auf Ihren Degustations-Besuch.\n\nAlexis Born\, Luigi Tri
 carico und s’Wyhüsli-Team\n\nP.S. Hier finden Sie unsere Degustations-Wein
 e. Gerne können Sie diese Liste ausdrucken und die Weine auch per Post ode
 r e-Mail bestellen.
DTSTART:20201001T000000
DTEND:20201004T235900
LOCATION:Restaurant Parlament\, Bern
ORGANIZER:MAILTO:Wy vom Wyhüsli <info@wyhuesli.ch>
SUMMARY:Wyhüsli goes Restaurant Parlament - Ersatzprogramm Berner Weinmesse
END:VEVENT
END:VCALENDAR
