BEGIN:VCALENDAR
VERSION:2.0
PRODID:-//Wy vom Wyhüsli//NONSGML kigkonsult.se iCalcreator 2.16.12//
METHOD:PUBLISH
X-MS-OLK-FORCEINSPECTOROPEN:TRUE
BEGIN:VEVENT
UID:20260419T152440CEST-9055Bs8VI6@Wy vom Wyhüsli
DTSTAMP:20260419T132440Z
DESCRIPTION:Donnerstag und Freitag von 18 - 22 Uhr\nSamstag von 14 - 22 Uhr
DTSTART:20210506T000000
DTEND:20210508T235900
LOCATION:Wyhüsli Koppigen
ORGANIZER:MAILTO:Wy vom Wyhüsli <info@wyhuesli.ch>
SUMMARY:Frühlings-Degustation Caveau Koppigen 
END:VEVENT
END:VCALENDAR
