BEGIN:VCALENDAR
VERSION:2.0
PRODID:-//Wy vom Wyhüsli//NONSGML kigkonsult.se iCalcreator 2.16.12//
METHOD:PUBLISH
X-MS-OLK-FORCEINSPECTOROPEN:TRUE
BEGIN:VEVENT
UID:20260419T152551CEST-3511f2BzRe@Wy vom Wyhüsli
DTSTAMP:20260419T132551Z
DESCRIPTION:Liebe Weinfreunde\n\nHaben Sie Lust auf eine Degustation in sym
 pathischen Rahmen? Wir laden Sie herzlich ein zum\n\nWeinfestival im Wyhüs
 li Koppigen\nFreitag\, 11. Juni 2021 von 17 – 22 Uhr\nSamstag\, 12. Juni 2
 021 von 13 – 22 Uhr\n\n- Degustation im Freien an verschiedenen Standorten
 \n- Freie Degustation aller Neuheiten und Klassiker\n- Drei Produzenten vo
 r Ort\n- Selber hergestellte Bratwürste offeriert\n\nWir freuen uns auf Ih
 ren Besuch!\n\nAlexis Born\, Luigi Tricarico und s‘Wyhüsli Team
DTSTART:20200611T000000
DTEND:20200612T235900
LOCATION:Wyhüsli Koppigen
ORGANIZER:MAILTO:Wy vom Wyhüsli <info@wyhuesli.ch>
SUMMARY:Weinfestival
END:VEVENT
END:VCALENDAR
