BEGIN:VCALENDAR
VERSION:2.0
PRODID:-//Wy vom Wyhüsli//NONSGML kigkonsult.se iCalcreator 2.16.12//
METHOD:PUBLISH
X-MS-OLK-FORCEINSPECTOROPEN:TRUE
BEGIN:VEVENT
UID:20260419T152620CEST-3495uv6PMT@Wy vom Wyhüsli
DTSTAMP:20260419T132620Z
DESCRIPTION:\n\nLiebe Weinfreunde\n\nHaben Sie Lust auf eine Degustation in
  sympathischen Rahmen? Wir laden Sie herzlich ein zum\n\nWeinfestival im W
 yhüsli Koppigen\nFreitag\, 25. Juni 2021 von 17 – 22 Uhr\nSamstag\, 26. Ju
 ni 2021 von 13 – 22 Uhr\n\n- Degustation im Freien an verschiedenen Stando
 rten\n- Freie Degustation aller Neuheiten und Klassiker\n- Produzenten vor
  Ort:\n\n	Mamete Prevostini aus dem Veltlin mit den Sforzato\, Italien\n	Azi
 enda Agricola La Giaretta Veneto\, Amarone Produzent\n	Fattoria Mantellassi
 \, Toskana\, mit Morellino di Scansano\n	Zweifelweine Zürich\n\n- Selber he
 rgestellte Bratwürste offeriert\n\nWir freuen uns auf Ihren Besuch!\n\nAle
 xis Born\, Luigi Tricarico und s‘Wyhüsli Team
DTSTART:20210625T000000
DTEND:20210626T235900
LOCATION:Wyhüsli Koppigen
ORGANIZER:MAILTO:Wy vom Wyhüsli <info@wyhuesli.ch>
SUMMARY:Weinfestival
END:VEVENT
END:VCALENDAR
