BEGIN:VCALENDAR
VERSION:2.0
PRODID:-//Wy vom Wyhüsli//NONSGML kigkonsult.se iCalcreator 2.16.12//
METHOD:PUBLISH
X-MS-OLK-FORCEINSPECTOROPEN:TRUE
BEGIN:VEVENT
UID:20260419T152529CEST-8542pGM2u8@Wy vom Wyhüsli
DTSTAMP:20260419T132529Z
DESCRIPTION:
DTSTART:20210722T000000
DTEND:20210724T235900
LOCATION:Openair Etziken
ORGANIZER:MAILTO:Wy vom Wyhüsli <info@wyhuesli.ch>
SUMMARY:Openair Etziken  - ABGESAGT
END:VEVENT
END:VCALENDAR
