BEGIN:VCALENDAR
VERSION:2.0
PRODID:-//Wy vom Wyhüsli//NONSGML kigkonsult.se iCalcreator 2.16.12//
METHOD:PUBLISH
X-MS-OLK-FORCEINSPECTOROPEN:TRUE
BEGIN:VEVENT
UID:20260419T152530CEST-7133wcnLXX@Wy vom Wyhüsli
DTSTAMP:20260419T132530Z
DESCRIPTION:\nPreis pro Person für Speis & Trank ist CHF 25.–. Bei einem Ei
 nkauf ab CHF 250.– wird die Eintrittspauschale offeriert.\n
DTSTART:20210820T180000
DTEND:20210820T220000
LOCATION:Wyhüsli Koppigen
ORGANIZER:MAILTO:Wy vom Wyhüsli <info@wyhuesli.ch>
SUMMARY:Wein & Chili
END:VEVENT
END:VCALENDAR
