BEGIN:VCALENDAR
VERSION:2.0
PRODID:-//Wy vom Wyhüsli//NONSGML kigkonsult.se iCalcreator 2.16.12//
METHOD:PUBLISH
X-MS-OLK-FORCEINSPECTOROPEN:TRUE
BEGIN:VEVENT
UID:20260419T152201CEST-3633IcGh69@Wy vom Wyhüsli
DTSTAMP:20260419T132201Z
DESCRIPTION:Herbstmesse Solothurn: Sie finden uns in der Halle 3\, am Stand
  304\n\nÖffnungszeiten\nFreitag\, 24.09.2021 von 14 bis 21 Uhr\nSamstag\, 
 25.09.2021 von 11 bis 21 Uhr\nSonntag\, 26.09.2021 von 11 bis 18 Uhr\nMo -
  Fr\, 27.09.2021 - 01.10.2021 von 14 bis 21 Uhr\nSamstag\, 02.10.2021 von 
 11 bis 21 Uhr\nSonntag\, 03.10.2021 von 11 bis 18 Uhr\nFreier Eintritt\nIn
 formationen unter: www.heso.ch\n\nCovid-19-Infos\nEinlass nur mit gültigem
  Covid-Zertifikat\, dafür keine Maskenpflicht.\n\n\nWeinliste HESO\nHier f
 inden Sie unsere Degustations-Weine.
DTSTART:20210924T000000
DTEND:20211003T235900
LOCATION:Herbstmesse Solothurn
ORGANIZER:MAILTO:Wy vom Wyhüsli <info@wyhuesli.ch>
SUMMARY:HESO 
END:VEVENT
END:VCALENDAR
