BEGIN:VCALENDAR
VERSION:2.0
PRODID:-//Wy vom Wyhüsli//NONSGML kigkonsult.se iCalcreator 2.16.12//
METHOD:PUBLISH
X-MS-OLK-FORCEINSPECTOROPEN:TRUE
BEGIN:VEVENT
UID:20260419T152254CEST-7457P9UVDn@Wy vom Wyhüsli
DTSTAMP:20260419T132254Z
DESCRIPTION:Berner Weinmesse: Sie finden uns am Stand 16\n \n\n\nBERNEXPO A
 G\, Halle 4\n\nMingerstrasse 6\, 3014 Bern\n\n​Tram Nr. 9: ab Bern Bahnhof
  oder Wankdorf Bahnhof bis Haltestelle Guisanplatz Expo\n\n\n\n\nÖffnungsz
 eiten\nMontag 16 bis 21 Uhr\n\nDienstag bis Freitag 17 bis 22 Uhr\n\nSamst
 ag 16 bis 22 Uhr\n\nSonntag 14 bis 18 Uhr\n \nCovid-19-Infos\nEinlass nur 
 mit gültigem Covid-Zertifikat\, dafür keine Maskenpflicht.
DTSTART:20211015T000000
DTEND:20211024T235900
LOCATION:Messe Bern
ORGANIZER:MAILTO:Wy vom Wyhüsli <info@wyhuesli.ch>
SUMMARY:Berner Weinmesse 
END:VEVENT
END:VCALENDAR
