BEGIN:VCALENDAR
VERSION:2.0
PRODID:-//Wy vom Wyhüsli//NONSGML kigkonsult.se iCalcreator 2.16.12//
METHOD:PUBLISH
X-MS-OLK-FORCEINSPECTOROPEN:TRUE
BEGIN:VEVENT
UID:20260419T152652CEST-1502R5CF9U@Wy vom Wyhüsli
DTSTAMP:20260419T132652Z
DESCRIPTION:Degustation Basel im Haus zum Waldvögeli\n\nLiebe Weinfreunde\n
 \nWir laden Sie herzlich zu unserer Herbstdegustation in Basel ein.\n\nDon
 nerstag\, 28. Oktober 16 – 21 Uhr\n\nFreitag\, 29. Oktober 16 – 21 Uhr\n\n
 Samstag\, 30. Oktober 14 – 21 Uhr\n\nim Haus zum Waldvögeli\, Rebgasse 40\
 , Basel\n\nCovid-19-Infos: Einlass nur mit gültigem Covid-Zertifikat\, daf
 ür keine Maskenpflicht.\n\nMöchten Sie unsere schönen Weine auch Ihren Fre
 unden zeigen?\n\nSie sind herzlich willkommen!\n\nWir freuen uns auf Ihren
  Besuch.\n\nAlexis Born\, Luigi Tricarico & s’Wyhüsli Team\n\n \n
DTSTART:20211028T000000
DTEND:20211030T235900
LOCATION:Im Haus zum Waldvögeli Basel
ORGANIZER:MAILTO:Wy vom Wyhüsli <info@wyhuesli.ch>
SUMMARY:Herbst-Degustation Basel
END:VEVENT
END:VCALENDAR
