BEGIN:VCALENDAR
VERSION:2.0
PRODID:-//Wy vom Wyhüsli//NONSGML kigkonsult.se iCalcreator 2.16.12//
METHOD:PUBLISH
X-MS-OLK-FORCEINSPECTOROPEN:TRUE
BEGIN:VEVENT
UID:20260419T152433CEST-78251vinXA@Wy vom Wyhüsli
DTSTAMP:20260419T132433Z
DESCRIPTION:\n\n\nLiebe Weinfreunde\n\nWir freuen uns\, dass wieder etwas N
 ormalität Einzug hält und laden Sie\nherzlich ein zu unserer\n\nHerbst-Deg
 ustation im Wyhüsli Koppigen\n\nDonnerstag\, 4. - Samstag\, 6. November un
 d\nDonnerstag\, 11. - Samstag\, 13. November 2021\n\nDonnerstag und Freita
 g von 18 - 22 Uhr\nSamstag von 14 - 22 Uhr\n\nEs erwarten Sie unsere spann
 enden Neuheiten und die beliebten Klassiker.\nDie Degustation findet aufgr
 und der aktuellen Situation in unserem\nweitläufigen und gut gelüfteten La
 denbereich statt.\n\nAnalog den Corona-Massnahmen in der Gastronomie benöt
 igen Sie ein\nZertifikat (geimpft\, genesen\, getestet)\, eine Anmeldung f
 ür die Degustation\nist nicht notwendig.\n\nZu den Weinen servieren wir Ih
 nen kleine Häppchen.\n\nWir freuen uns auf Ihren Besuch!\nAlexis Born\, Lu
 igi Tricarico & s’Wyhüsli Team\n\n
DTSTART:20211104T000000
DTEND:20211106T235900
LOCATION:Wyhüsli Koppigen
ORGANIZER:MAILTO:Wy vom Wyhüsli <info@wyhuesli.ch>
SUMMARY:Herbst-Degustation Caveau Koppigen
END:VEVENT
END:VCALENDAR
