BEGIN:VCALENDAR
VERSION:2.0
PRODID:-//Wy vom Wyhüsli//NONSGML kigkonsult.se iCalcreator 2.16.12//
METHOD:PUBLISH
X-MS-OLK-FORCEINSPECTOROPEN:TRUE
BEGIN:VEVENT
UID:20260419T152726CEST-9374wz868f@Wy vom Wyhüsli
DTSTAMP:20260419T132726Z
DESCRIPTION:\n\nCHF 35.- pro Person\n\nvon 18.00 - 22.00 Uhr\n\nmit Raclett
 e Käse der Molkerei Lanz\n\nCovid-19-Infos: Einlass nur mit gültigem Covid
 -Zertifikat\, dafür keine Maskenpflicht.
DTSTART:20211126T000000
DTEND:20211126T235900
LOCATION:Wyhüsli Koppigen
ORGANIZER:MAILTO:Wy vom Wyhüsli <info@wyhuesli.ch>
SUMMARY:Wein & Raclette
END:VEVENT
END:VCALENDAR
