BEGIN:VCALENDAR
VERSION:2.0
PRODID:-//Wy vom Wyhüsli//NONSGML kigkonsult.se iCalcreator 2.16.12//
METHOD:PUBLISH
X-MS-OLK-FORCEINSPECTOROPEN:TRUE
BEGIN:VEVENT
UID:20260419T152621CEST-6757LobSZu@Wy vom Wyhüsli
DTSTAMP:20260419T132621Z
DESCRIPTION:\n\nWann:   Donnerstag\, 10. Juni 16 – 21 Uhr / Freitag\, 11. J
 uni 16 – 21 Uhr / Samstag\, 12. Juni\, 14 – 21 Uhr\n\nWo:       Neufeldstr
 asse 32 / 3012 Bern\n\nZu den Weinen können Sie kleine Köstlichkeiten vom 
 Charolais Rind der Lehmanns Metzgerei geniessen.\n\nFalls Sie nicht kommen
  können\, finden Sie hier unsere Degustations-Weine. Gerne können Sie dies
 e Liste ausdrucken und die Weine auch per Post oder e-Mail bestellen.\n\nW
 ir freuen uns auf Sie.\n
DTSTART:20210610T000000
DTEND:20210612T235900
LOCATION:Lehmanns Metzgerei Bern
ORGANIZER:MAILTO:Wy vom Wyhüsli <info@wyhuesli.ch>
SUMMARY:Ersatz-Degustation BEA in Lehmanns Metzgerei
END:VEVENT
END:VCALENDAR
