BEGIN:VCALENDAR
VERSION:2.0
PRODID:-//Wy vom Wyhüsli//NONSGML kigkonsult.se iCalcreator 2.16.12//
METHOD:PUBLISH
X-MS-OLK-FORCEINSPECTOROPEN:TRUE
BEGIN:VEVENT
UID:20260419T152621CEST-1041cVVFmV@Wy vom Wyhüsli
DTSTAMP:20260419T132621Z
DESCRIPTION:\n\nEinfach vorbei kommen\, überraschende Weine degustieren und
  dazu unsere selbstgemachten Würste vom Grill geniessen.\nDonnerstag und F
 reitag von 18 - 22 Uhr  I  Samstag von 14 - 22 Uhr\nAn unseren Frühlings-D
 egustationen haben Sie die Gelegenheit\, einen guten Überblick über unser 
 Sortiment zu erlangen. Wir zeigen Ihnen neben unseren Klassikern die Neuhe
 iten und natürlich auch spezifisch auf den Frühling und Sommer abgestimmte
  Weine.\n\nKennen Sie schon die Weine der Cantina Mamete Prevostini? Der O
 pera ist eine gelungene Assemblage aus Chardonnay und Sauvignon blanc. Ode
 r der Monrose Rosato\, der an Eleganz und Fruchtigkeit den grossen Rosés a
 us der Provence in nichts nachsteht\; ausser im Preis.\n\nDonnerstag und F
 reitag von 18 - 22 Uhr\nSamstag von 14 - 22 Uhr\n\n\n\n\n 
DTSTART:20220512T000000
DTEND:20220514T235900
LOCATION:Wyhüsli Koppigen
ORGANIZER:MAILTO:Wy vom Wyhüsli <info@wyhuesli.ch>
SUMMARY:Frühlings-Degustation Caveau Koppigen 
END:VEVENT
END:VCALENDAR
