BEGIN:VCALENDAR
VERSION:2.0
PRODID:-//Wy vom Wyhüsli//NONSGML kigkonsult.se iCalcreator 2.16.12//
METHOD:PUBLISH
X-MS-OLK-FORCEINSPECTOROPEN:TRUE
BEGIN:VEVENT
UID:20260419T152340CEST-9196zGvCxv@Wy vom Wyhüsli
DTSTAMP:20260419T132340Z
DESCRIPTION:Liebe Weinfreunde\n\nWir laden Sie herzlich zu unserer Frühling
 sdegustation in Basel ein.\n\nFreitag\, 22. April 17 – 22 Uhr\n\nSamstag\,
  23. April 14 – 22 Uhr\n\nNeuer Standort: im Restaurant Perron\, Vogesenpl
 atz 1\, 4056 Basel\n\nAusternkauf vom Austernknacker\n       \n\nMöchten S
 ie unsere schönen Weine auch Ihren Freunden zeigen?\n\nSie sind herzlich w
 illkommen!\n\nWir freuen uns auf Ihren Besuch.\n\nAlexis Born\, Luigi Tric
 arico & s’Wyhüsli Team\n\n \n
DTSTART:20220422T000000
DTEND:20220423T235900
ORGANIZER:MAILTO:Wy vom Wyhüsli <info@wyhuesli.ch>
SUMMARY:Frühlings-Degustation Basel
END:VEVENT
END:VCALENDAR
