BEGIN:VCALENDAR
VERSION:2.0
PRODID:-//Wy vom Wyhüsli//NONSGML kigkonsult.se iCalcreator 2.16.12//
METHOD:PUBLISH
X-MS-OLK-FORCEINSPECTOROPEN:TRUE
BEGIN:VEVENT
UID:20260419T152552CEST-3562HZwZC5@Wy vom Wyhüsli
DTSTAMP:20260419T132552Z
DESCRIPTION:Die BEA kehrt endlich zurück!\n\nErlesene Wyhüsli-Weine erwarte
 n Sie.\n\nSie finden uns in der Halle 1.2 / Stand A036\n\nTäglich von 11 –
  20 Uhr\n\nAm letzten Tag bis 18 Uhr\n\nWir freuen uns auf Sie!\n\n\n 
DTSTART:20220429T000000
DTEND:20220508T235900
LOCATION:Messe Bern
ORGANIZER:MAILTO:Wy vom Wyhüsli <info@wyhuesli.ch>
SUMMARY:BEA Bern 
END:VEVENT
END:VCALENDAR
