BEGIN:VCALENDAR
VERSION:2.0
PRODID:-//Wy vom Wyhüsli//NONSGML kigkonsult.se iCalcreator 2.16.12//
METHOD:PUBLISH
X-MS-OLK-FORCEINSPECTOROPEN:TRUE
BEGIN:VEVENT
UID:20260419T152530CEST-22675HimOK@Wy vom Wyhüsli
DTSTAMP:20260419T132530Z
DESCRIPTION:\n\nLiebe Weinfreunde\n\nHaben Sie Lust auf eine Degustation in
  sympathischen Rahmen? Wir laden Sie herzlich ein zum\n\nWeinfestival im W
 yhüsli Koppigen\nFreitag\, 24. Juni 2022\nSamstag\, 25. Juni 2022\n\n- Deg
 ustation im Freien an verschiedenen Standorten\n- Freie Degustation aller 
 Neuheiten und Klassiker\n- Produzenten vor Ort:\nVilla Russiz Friaul Itali
 en\n\nBarbero's Piemont Italien\n\nCampo al Pero Toskana Italien\n\nLes Ce
 lliers de Sion Wallis Schweiz\n- Pizzatranchen von Davide Ruggieri offerie
 rt.\n\nWir freuen uns auf Ihren Besuch!\n\nAlexis Born\, Luigi Tricarico u
 nd s‘Wyhüsli Team
DTSTART:20220624T000000
DTEND:20220625T235900
LOCATION:Wyhüsli Koppigen
ORGANIZER:MAILTO:Wy vom Wyhüsli <info@wyhuesli.ch>
SUMMARY:Weinfestival mit Produzenten
END:VEVENT
END:VCALENDAR
