BEGIN:VCALENDAR
VERSION:2.0
PRODID:-//Wy vom Wyhüsli//NONSGML kigkonsult.se iCalcreator 2.16.12//
METHOD:PUBLISH
X-MS-OLK-FORCEINSPECTOROPEN:TRUE
BEGIN:VEVENT
UID:20260419T152423CEST-36668ixT4v@Wy vom Wyhüsli
DTSTAMP:20260419T132423Z
DESCRIPTION:Herbstmesse Solothurn: Sie finden uns in der Halle 3\, am Stand
  304\n\nÖffnungszeiten\nFreitag\, 23.09.2021 von 14 bis 21 Uhr\nSamstag\, 
 24.09.2021 von 11 bis 21 Uhr\nSonntag\, 25.09.2021 von 11 bis 18 Uhr\nMo -
  Fr\, 26.09.2021 - 30.09.2021 von 14 bis 21 Uhr\nSamstag\, 01.10.2021 von 
 11 bis 21 Uhr\nSonntag\, 02.10.2021 von 11 bis 18 Uhr\nFreier Eintritt\nIn
 formationen unter: www.heso.ch\n\n\nWeinliste HESO\nHier finden Sie vor de
 r Messe unsere Degustations-Weine.
DTSTART:20220923T000000
DTEND:20221002T235900
LOCATION:Herbstmesse Solothurn
ORGANIZER:MAILTO:Wy vom Wyhüsli <info@wyhuesli.ch>
SUMMARY:HESO 
END:VEVENT
END:VCALENDAR
