BEGIN:VCALENDAR
VERSION:2.0
PRODID:-//Wy vom Wyhüsli//NONSGML kigkonsult.se iCalcreator 2.16.12//
METHOD:PUBLISH
X-MS-OLK-FORCEINSPECTOROPEN:TRUE
BEGIN:VEVENT
UID:20260419T152254CEST-2967McCjid@Wy vom Wyhüsli
DTSTAMP:20260419T132254Z
DESCRIPTION:Berner Weinmesse: Sie finden uns am Stand 16\n \n\n\nÖffnungsze
 iten\nMontag 16 bis 21 Uhr\n\nDienstag bis Freitag 17 bis 22 Uhr\n\nSamsta
 g 16 bis 22 Uhr\n\nSonntag 14 bis 18 Uhr\n\n 
DTSTART:20221014T000000
DTEND:20221023T235900
LOCATION:Messe Bern
ORGANIZER:MAILTO:Wy vom Wyhüsli <info@wyhuesli.ch>
SUMMARY:Berner Weinmesse 
END:VEVENT
END:VCALENDAR
