BEGIN:VCALENDAR
VERSION:2.0
PRODID:-//Wy vom Wyhüsli//NONSGML kigkonsult.se iCalcreator 2.16.12//
METHOD:PUBLISH
X-MS-OLK-FORCEINSPECTOROPEN:TRUE
BEGIN:VEVENT
UID:20260419T152207CEST-6085N5mkF7@Wy vom Wyhüsli
DTSTAMP:20260419T132207Z
DESCRIPTION:\n\n\nLiebe Weinfreunde\nWir laden Sie herzlich ein zu unserer
 \n\nHerbst-Degustation im Wyhüsli Koppigen\n\nDonnerstag\, 3. - Samstag\, 
 5. November und\nDonnerstag\, 10. - Samstag\, 12. November 2022\n\nDonners
 tag und Freitag von 18 - 22 Uhr\nSamstag von 14 - 22 Uhr\n\nEs erwarten Si
 e unsere spannenden Neuheiten und die beliebten Klassiker.\n\nZu den Weine
 n servieren wir Ihnen kleine Häppchen.\n\nWir freuen uns auf Ihren Besuch!
 \nAlexis Born\, Luigi Tricarico & s’Wyhüsli Team\n\n
DTSTART:20221103T000000
DTEND:20221105T235900
LOCATION:Wyhüsli Koppigen
ORGANIZER:MAILTO:Wy vom Wyhüsli <info@wyhuesli.ch>
SUMMARY:Herbst-Degustation Caveau Koppigen
END:VEVENT
END:VCALENDAR
