BEGIN:VCALENDAR
VERSION:2.0
PRODID:-//Wy vom Wyhüsli//NONSGML kigkonsult.se iCalcreator 2.16.12//
METHOD:PUBLISH
X-MS-OLK-FORCEINSPECTOROPEN:TRUE
BEGIN:VEVENT
UID:20260419T152550CEST-6907VPOsN7@Wy vom Wyhüsli
DTSTAMP:20260419T132550Z
DESCRIPTION:\nLiebe Weinfreunde\n\nWir laden Sie herzlich ein zu unserer\n
 \nHerbst-Degustation im Wyhüsli Koppigen\n\nDonnerstag\, 3. - Samstag\, 5.
  November und\nDonnerstag\, 10. - Samstag\, 12. November 2022\n\nDonnersta
 g und Freitag von 18 - 22 Uhr\nSamstag von 14 - 22 Uhr\n\nEs erwarten Sie 
 unsere spannenden Neuheiten und die beliebten Klassiker.\n\nZu den Weinen 
 servieren wir Ihnen kleine Häppchen.\n\nWir freuen uns auf Ihren Besuch!\n
 Alexis Born\, Luigi Tricarico & s’Wyhüsli Team\n\n
DTSTART:20221110T000000
DTEND:20221112T235900
LOCATION:Wyhüsli Koppigen
ORGANIZER:MAILTO:Wy vom Wyhüsli <info@wyhuesli.ch>
SUMMARY:Herbst-Degustation Caveau Koppigen
END:VEVENT
END:VCALENDAR
