BEGIN:VCALENDAR
VERSION:2.0
PRODID:-//Wy vom Wyhüsli//NONSGML kigkonsult.se iCalcreator 2.16.12//
METHOD:PUBLISH
X-MS-OLK-FORCEINSPECTOROPEN:TRUE
BEGIN:VEVENT
UID:20260419T152259CEST-7438D16A7m@Wy vom Wyhüsli
DTSTAMP:20260419T132259Z
DESCRIPTION:=>Alle freien Plätze sind bereits weg. Wir freuen uns auf Ihre 
 Teilnahme im nächsten Jahr.<=\n\n\nCHF 35.- pro Person\nBei einem Einkauf 
 ab CHF 350.– wird die Eintrittspauschale offeriert.\n\nvon 18.00 - 22.00 U
 hr\n\nmit Raclette Käse der Molkerei Lanz\n\n 
DTSTART:20221125T000000
DTEND:20221125T235900
LOCATION:Wyhüsli Koppigen
ORGANIZER:MAILTO:Wy vom Wyhüsli <info@wyhuesli.ch>
SUMMARY:Wein & Raclette - AUSVERKAUFT
END:VEVENT
END:VCALENDAR
