BEGIN:VCALENDAR
VERSION:2.0
PRODID:-//Wy vom Wyhüsli//NONSGML kigkonsult.se iCalcreator 2.16.12//
METHOD:PUBLISH
X-MS-OLK-FORCEINSPECTOROPEN:TRUE
BEGIN:VEVENT
UID:20260419T152020CEST-80255Gtnt4@Wy vom Wyhüsli
DTSTAMP:20260419T132020Z
DESCRIPTION:Preis pro Person für Speis & Trank ist CHF 35.–.\nBei einem Ein
 kauf ab CHF 350.– wird die Eintrittspauschale offeriert.
DTSTART:20220819T180000
DTEND:20220819T220000
LOCATION:Wyhüsli Koppigen
ORGANIZER:MAILTO:Wy vom Wyhüsli <info@wyhuesli.ch>
SUMMARY:Wein & Satay Spiesse
END:VEVENT
END:VCALENDAR
