BEGIN:VCALENDAR
VERSION:2.0
PRODID:-//Wy vom Wyhüsli//NONSGML kigkonsult.se iCalcreator 2.16.12//
METHOD:PUBLISH
X-MS-OLK-FORCEINSPECTOROPEN:TRUE
BEGIN:VEVENT
UID:20260419T152115CEST-70274bOMaA@Wy vom Wyhüsli
DTSTAMP:20260419T132115Z
DESCRIPTION:Dieser Anlass ist ausverkauft.\nEs gibt eine Warteliste. \nWas?
 \n\n4-Gang Frühlings-Gourmetdinner von Urban Schiess zubereitet auf dem Of
 yr Feuerring\, gepaart mit auserlesenen Weinen vom Wyhüsli\n \n\nWann?\n\n
 Samstag\, 26. März 2022\, ab 18 Uhr Apéro\, 19 Uhr Dinner\n \n\nWo?\n\nIm 
 Wyhüsli Koppigen\, Hauptstrasse 20\, 3425 Koppigen\n\n\n034 413 11 77\ninf
 o@wyhuesli.ch
DTSTART:20220326T000000
DTEND:20220326T235900
LOCATION:Wyhüsli Koppigen
ORGANIZER:MAILTO:Wy vom Wyhüsli <info@wyhuesli.ch>
SUMMARY:Tavolata mit Urban Schiess - AUSVERKAUFT
END:VEVENT
END:VCALENDAR
