BEGIN:VCALENDAR
VERSION:2.0
PRODID:-//Wy vom Wyhüsli//NONSGML kigkonsult.se iCalcreator 2.16.12//
METHOD:PUBLISH
X-MS-OLK-FORCEINSPECTOROPEN:TRUE
BEGIN:VEVENT
UID:20260419T152728CEST-09363zmTbv@Wy vom Wyhüsli
DTSTAMP:20260419T132728Z
DESCRIPTION:
DTSTART:20221028T000000
DTEND:20221029T235900
LOCATION:Restaurant Perron Basel
ORGANIZER:MAILTO:Wy vom Wyhüsli <info@wyhuesli.ch>
SUMMARY:Herbst-Degustation Basel 
END:VEVENT
END:VCALENDAR
