BEGIN:VCALENDAR
VERSION:2.0
PRODID:-//Wy vom Wyhüsli//NONSGML kigkonsult.se iCalcreator 2.16.12//
METHOD:PUBLISH
X-MS-OLK-FORCEINSPECTOROPEN:TRUE
BEGIN:VEVENT
UID:20260419T152341CEST-4284eAjFXV@Wy vom Wyhüsli
DTSTAMP:20260419T132341Z
DESCRIPTION:\n\nFreuen Sie sich auf einen typischen Walliser Abend.\n\nRacl
 ette traditionell wie bei den Wallisern vom halben Laib gestrichen mit Wei
 nen von Varon Vins und Bonvin aus dem Wallis (lescelliers.ch). Der Besuch 
 der Walliser Winzer macht den Abend noch authentischer.\n\nCHF 35.- pro Pe
 rson\nBei einem Einkauf ab CHF 350.– wird die Eintrittspauschale offeriert
 .\n\nvon 18.00 - 22.00 Uhr\n\n\n\n\n 
DTSTART:20230324T000000
DTEND:20230324T235900
LOCATION:Wyhüsli Koppigen
ORGANIZER:MAILTO:Wy vom Wyhüsli <info@wyhuesli.ch>
SUMMARY:Wein & Raclette: Walliser Abend - AUSVERKAUFT
END:VEVENT
END:VCALENDAR
