BEGIN:VCALENDAR
VERSION:2.0
PRODID:-//Wy vom Wyhüsli//NONSGML kigkonsult.se iCalcreator 2.16.12//
METHOD:PUBLISH
X-MS-OLK-FORCEINSPECTOROPEN:TRUE
BEGIN:VEVENT
UID:20260419T152423CEST-6873EdgIGG@Wy vom Wyhüsli
DTSTAMP:20260419T132423Z
DESCRIPTION:Einfach vorbei kommen und überraschende Weine degustieren.\nDon
 nerstag und Freitag von 18 - 22 Uhr  I  Samstag von 14 - 22 Uhr\nAn unsere
 n Frühlings-Degustationen haben Sie die Gelegenheit\, einen guten Überblic
 k über unser Sortiment zu erlangen. Wir zeigen Ihnen neben unseren Klassik
 ern die Neuheiten und natürlich auch spezifisch auf den Frühling und Somme
 r abgestimmte Weine.\n\nDonnerstag und Freitag von 18 - 22 Uhr\nSamstag vo
 n 14 - 22 Uhr\n\n\n\n\n 
DTSTART:20230420T000000
DTEND:20230422T235900
LOCATION:Wyhüsli Koppigen
ORGANIZER:MAILTO:Wy vom Wyhüsli <info@wyhuesli.ch>
SUMMARY:Frühlings-Degustation Koppigen 
END:VEVENT
END:VCALENDAR
