BEGIN:VCALENDAR
VERSION:2.0
PRODID:-//Wy vom Wyhüsli//NONSGML kigkonsult.se iCalcreator 2.16.12//
METHOD:PUBLISH
X-MS-OLK-FORCEINSPECTOROPEN:TRUE
BEGIN:VEVENT
UID:20260419T152433CEST-22975ul4Ev@Wy vom Wyhüsli
DTSTAMP:20260419T132433Z
DESCRIPTION:\n\nLiebe Weinfreunde\n\nHaben Sie Lust auf eine Degustation in
  sympathischen Rahmen? Wir laden Sie herzlich ein zum\n\nWeinfestival im W
 yhüsli in Koppigen\n\nFreitag\, 23. Juni 17 - 22 Uhr und Samstag\, 24. Jun
 i 13 - 22 Uhr \n\n- Degustation im Freien an verschiedenen Standorten\n- F
 reie Degustation aller Neuheiten und Klassiker\n- Vier Produzenten vor Ort
 :     \n     Cailleteau Bergeron\, Bordeaux\, Frankreich\n     Bodegas Val
 delacierva\, Rioja\, Spanien\n     Poderi Rosso Giovanni\, Piemonte\, Ital
 ien    \n     Jürg Obrecht\, Bündner Herrschaft\, Schweiz\n- Pizzatranchen
  von Pizzaiolo Davide\n\nWir freuen uns auf Ihren Besuch!\n\nAlexis Born\,
  Luigi Tricarico und s‘Wyhüsli Team
DTSTART:20230623T000000
DTEND:20230624T235900
LOCATION:Wyhüsli Koppigen
ORGANIZER:MAILTO:Wy vom Wyhüsli <info@wyhuesli.ch>
SUMMARY:Weinfestival mit Produzenten
END:VEVENT
END:VCALENDAR
