BEGIN:VCALENDAR
VERSION:2.0
PRODID:-//Wy vom Wyhüsli//NONSGML kigkonsult.se iCalcreator 2.16.12//
METHOD:PUBLISH
X-MS-OLK-FORCEINSPECTOROPEN:TRUE
BEGIN:VEVENT
UID:20260419T153002CEST-0631jf8gdt@Wy vom Wyhüsli
DTSTAMP:20260419T133002Z
DESCRIPTION:=>Alle Plätze sind bereits weg. Wir freuen uns auf Ihre Teilnah
 me im nächsten Jahr oder an einem anderen Event.<=\n\n\nCHF 55.- pro Perso
 n\nBei einem Einkauf ab CHF 550.– wird die Eintrittspauschale offeriert.\n
 \nvon 18.00 - 22.00 Uhr
DTSTART:20230610T000000
DTEND:20230610T235900
LOCATION:Wyhüsli Koppigen
ORGANIZER:MAILTO:Wy vom Wyhüsli <info@wyhuesli.ch>
SUMMARY:Wein & Grill Guerilla Catering - AUSVERKAUFT
END:VEVENT
END:VCALENDAR
