BEGIN:VCALENDAR
VERSION:2.0
PRODID:-//Wy vom Wyhüsli//NONSGML kigkonsult.se iCalcreator 2.16.12//
METHOD:PUBLISH
X-MS-OLK-FORCEINSPECTOROPEN:TRUE
BEGIN:VEVENT
UID:20260419T152202CEST-5183v9pbIA@Wy vom Wyhüsli
DTSTAMP:20260419T132202Z
DESCRIPTION:=>Alle freien Plätze sind bereits weg. Wir freuen uns auf Ihre 
 Teilnahme im nächsten Jahr.<=\n\n\n\n\nPreis pro Person für Speis & Trank 
 ist CHF 35.–.\nBei einem Einkauf ab CHF 350.– wird die Eintrittspauschale 
 offeriert.\n
DTSTART:20230915T180000
DTEND:20230915T220000
LOCATION:Wyhüsli Koppigen
ORGANIZER:MAILTO:Wy vom Wyhüsli <info@wyhuesli.ch>
SUMMARY:Wein & Paella - AUSVERKAUFT
END:VEVENT
END:VCALENDAR
