BEGIN:VCALENDAR
VERSION:2.0
PRODID:-//Wy vom Wyhüsli//NONSGML kigkonsult.se iCalcreator 2.16.12//
METHOD:PUBLISH
X-MS-OLK-FORCEINSPECTOROPEN:TRUE
BEGIN:VEVENT
UID:20260419T152318CEST-9644dXtOeK@Wy vom Wyhüsli
DTSTAMP:20260419T132318Z
DESCRIPTION:Berner Weinmesse: Sie finden uns am Stand 19\n\nVom 13.–22.10.2
 023 öffnet die legendäre Berner Weinmesse ihre neuen Tore\, und dann heiss
 t es wieder degustieren\, entdecken und geniessen. Neu in der Bernexpo-Hal
 le 1.2 – gewohnt ungezwungen und in stimmungsvollem Ambiente.\n\n \n\nÖffn
 ungszeiten\n\nMo–Sa   17 bis 22 Uhr\n\nSo           14 bis 18 Uhr\n\n\nNeu
 er Standort\n\nERNEXPO-Gelände\,\n\nNEU in Halle 1.2\n\nMingerstrasse 6\, 
 3014 Bern\n\n​Tram Nr. 9: ab Bern Bahnhof oder Wankdorf Bahnhof bis Statio
 n «Wankdorf Center» \n\n 
DTSTART:20231013T000000
DTEND:20231022T235900
LOCATION:Messe Bern
ORGANIZER:MAILTO:Wy vom Wyhüsli <info@wyhuesli.ch>
SUMMARY:Berner Weinmesse 
END:VEVENT
END:VCALENDAR
