BEGIN:VCALENDAR
VERSION:2.0
PRODID:-//Wy vom Wyhüsli//NONSGML kigkonsult.se iCalcreator 2.16.12//
METHOD:PUBLISH
X-MS-OLK-FORCEINSPECTOROPEN:TRUE
BEGIN:VEVENT
UID:20260419T152255CEST-71068S6SVh@Wy vom Wyhüsli
DTSTAMP:20260419T132255Z
DESCRIPTION:\nLiebe Weinfreunde\nWir laden Sie herzlich ein zu unserer\n\nH
 erbst-Degustation im Wyhüsli Koppigen\n\nDonnerstag\, 9. - Samstag\, 11. N
 ovember und\nDonnerstag\, 16. - Samstag\, 18. November 2023\n\nDonnerstag 
 und Freitag von 18 - 22 Uhr\nSamstag von 14 - 22 Uhr\n\nEs erwarten Sie un
 sere spannenden Neuheiten und die beliebten Klassiker.\n\nZu den Weinen se
 rvieren wir Ihnen kleine Häppchen.\n\nWir freuen uns auf Ihren Besuch!\nAl
 exis Born\, Luigi Tricarico & s’Wyhüsli Team\n\n
DTSTART:20231109T000000
DTEND:20231111T235900
LOCATION:Wyhüsli Koppigen
ORGANIZER:MAILTO:Wy vom Wyhüsli <info@wyhuesli.ch>
SUMMARY:Herbst-Degustation Koppigen
END:VEVENT
END:VCALENDAR
