BEGIN:VCALENDAR
VERSION:2.0
PRODID:-//Wy vom Wyhüsli//NONSGML kigkonsult.se iCalcreator 2.16.12//
METHOD:PUBLISH
X-MS-OLK-FORCEINSPECTOROPEN:TRUE
BEGIN:VEVENT
UID:20260419T152439CEST-5994Z3tFH6@Wy vom Wyhüsli
DTSTAMP:20260419T132439Z
DESCRIPTION:Liebe Weinfreunde\n\nWir laden Sie herzlich zu unserer Frühling
 sdegustation in Basel ein.\n\n       \nMöchten Sie unsere schönen Weine au
 ch Ihren Freunden zeigen?\n\nSie sind herzlich willkommen!\n\nWir freuen u
 ns auf Ihren Besuch.\n\nAlexis Born\, Luigi Tricarico & s’Wyhüsli Team\n\n
  \n
DTSTART:20230413T000000
DTEND:20230415T235900
LOCATION:Markthalle Basel
ORGANIZER:MAILTO:Wy vom Wyhüsli <info@wyhuesli.ch>
SUMMARY:Basler Wymärt Frühling
END:VEVENT
END:VCALENDAR
