BEGIN:VCALENDAR
VERSION:2.0
PRODID:-//Wy vom Wyhüsli//NONSGML kigkonsult.se iCalcreator 2.16.12//
METHOD:PUBLISH
X-MS-OLK-FORCEINSPECTOROPEN:TRUE
BEGIN:VEVENT
UID:20260419T153002CEST-3730bBpBzv@Wy vom Wyhüsli
DTSTAMP:20260419T133002Z
DESCRIPTION:Liebe Weinfreunde\n\nWir laden Sie herzlich zu unserer Herbstde
 gustation in Basel ein.\n26. –28. Oktober 2023\, Alte Markthalle Basel\nDo
 nnerstag und Freitag\, 16 –21 Uhr\nSamstag\, 15 –20 Uhr\n\nAm Basler Wymär
 t präsentieren wir und 40 andere Winzer/innen und Weinhändler/innen an die
 sem trendigen Ort ihre besten Weine\n       \nMöchten Sie unsere schönen W
 eine auch Ihren Freunden zeigen?\n\nSie sind herzlich willkommen!\n\nWir f
 reuen uns auf Ihren Besuch.\n\nAlexis Born\, Luigi Tricarico & s’Wyhüsli T
 eam\n\n \n
DTSTART:20231026T000000
DTEND:20231028T235900
LOCATION:Markthalle Basel
ORGANIZER:MAILTO:Wy vom Wyhüsli <info@wyhuesli.ch>
SUMMARY:Basler Wymärt Herbst
END:VEVENT
END:VCALENDAR
