BEGIN:VCALENDAR
VERSION:2.0
PRODID:-//Wy vom Wyhüsli//NONSGML kigkonsult.se iCalcreator 2.16.12//
METHOD:PUBLISH
X-MS-OLK-FORCEINSPECTOROPEN:TRUE
BEGIN:VEVENT
UID:20260419T152208CEST-0462szzIhu@Wy vom Wyhüsli
DTSTAMP:20260419T132208Z
DESCRIPTION:
DTSTART:20230708T000000
DTEND:20230709T235900
ORGANIZER:MAILTO:Wy vom Wyhüsli <info@wyhuesli.ch>
SUMMARY:Schnittersonntag mit MG Koppigen
END:VEVENT
END:VCALENDAR
