BEGIN:VCALENDAR
VERSION:2.0
PRODID:-//Wy vom Wyhüsli//NONSGML kigkonsult.se iCalcreator 2.16.12//
METHOD:PUBLISH
X-MS-OLK-FORCEINSPECTOROPEN:TRUE
BEGIN:VEVENT
UID:20260419T152433CEST-5346s7osP6@Wy vom Wyhüsli
DTSTAMP:20260419T132433Z
DESCRIPTION:\nEs erwartet Sie eine breite Palette an köstlichen Käsen zum G
 eniessen.\nDazu passend degustieren Sie ca. 15 Weine aus dem Wyhüsli-Sorti
 ment.\n\nDie Platzzahl ist beschränkt:\nMelden Sie sich noch heute online 
 an (unten beim Link Jetzt anmelden) oder über info@wyhuesli.ch\noder telef
 onisch +41 34 413 11 77\n\nPreis pro Person für Speis & Trank ist CHF 35.–
 \nBei einem Einkauf ab CHF 350.– wird der Betrag angerechnet.
DTSTART:20240202T180000
DTEND:20240202T220000
LOCATION:Wyhüsli Koppigen
ORGANIZER:MAILTO:Wy vom Wyhüsli <info@wyhuesli.ch>
SUMMARY:Wein & Käse 
END:VEVENT
END:VCALENDAR
