BEGIN:VCALENDAR
VERSION:2.0
PRODID:-//Wy vom Wyhüsli//NONSGML kigkonsult.se iCalcreator 2.16.12//
METHOD:PUBLISH
X-MS-OLK-FORCEINSPECTOROPEN:TRUE
BEGIN:VEVENT
UID:20260419T152439CEST-8919iVVZmE@Wy vom Wyhüsli
DTSTAMP:20260419T132439Z
DESCRIPTION:\n\n\nCHF 35.- pro Person\nBei einem Einkauf ab CHF 350.– wird 
 die Eintrittspauschale offeriert.\n\nvon 18.00 - 22.00 Uhr\n\nmit Raclette
  Käse der Molkerei Lanz\n\n 
DTSTART:20240301T000000
DTEND:20240301T235900
LOCATION:Wyhüsli Koppigen
ORGANIZER:MAILTO:Wy vom Wyhüsli <info@wyhuesli.ch>
SUMMARY:Wein & Raclette 
END:VEVENT
END:VCALENDAR
