BEGIN:VCALENDAR
VERSION:2.0
PRODID:-//Wy vom Wyhüsli//NONSGML kigkonsult.se iCalcreator 2.16.12//
METHOD:PUBLISH
X-MS-OLK-FORCEINSPECTOROPEN:TRUE
BEGIN:VEVENT
UID:20260419T152423CEST-9675aolkZG@Wy vom Wyhüsli
DTSTAMP:20260419T132423Z
DESCRIPTION:=>Alle freien Plätze sind bereits weg. Wir freuen uns auf Ihre 
 Teilnahme bei einem anderen Event oder im nächsten Jahr.<=\n\n\n\nWein & P
 asta\n\nMit Pastaria Tomaso Solothurn\n\nPastaria Tomaso kocht vor Ort ver
 schiedene Teigwaren.\n\n\nvon 18.00 - 22.00 Uhr\n\nCHF 45.- pro Person\n\n
 Bei einem Einkauf ab CHF 350.– wird die Eintrittspauschale offeriert.\n \n
 \n\n\n 
DTSTART:20240405T000000
DTEND:20240405T235900
LOCATION:Wyhüsli Koppigen
ORGANIZER:MAILTO:Wy vom Wyhüsli <info@wyhuesli.ch>
SUMMARY:Wein & Pasta - AUSVERKAUFT
END:VEVENT
END:VCALENDAR
