BEGIN:VCALENDAR
VERSION:2.0
PRODID:-//Wy vom Wyhüsli//NONSGML kigkonsult.se iCalcreator 2.16.12//
METHOD:PUBLISH
X-MS-OLK-FORCEINSPECTOROPEN:TRUE
BEGIN:VEVENT
UID:20260419T152651CEST-1565pF5LBD@Wy vom Wyhüsli
DTSTAMP:20260419T132651Z
DESCRIPTION:Liebe Weinfreunde\n\nWir laden Sie herzlich zu unserer Frühling
 sdegustation in Basel ein.\n\n       \nMöchten Sie unsere schönen Weine au
 ch Ihren Freunden zeigen?\n\nSie sind auch herzlich willkommen!\n\nWir fre
 uen uns auf Ihren Besuch in der Markthalle Basel.\n\nAlexis Born\, Luigi T
 ricarico & s’Wyhüsli Team\n\n \n
DTSTART:20240411T000000
DTEND:20240413T235900
LOCATION:Markthalle Basel
ORGANIZER:MAILTO:Wy vom Wyhüsli <info@wyhuesli.ch>
SUMMARY:Basler Wymärt Frühling
END:VEVENT
END:VCALENDAR
